Workbook

Sheet CB_Data
A1: TRUE | B1: FALSE | C1: FALSE | D1: FALSE | E1: FALSE
A2: TRUE | B2: FALSE | C2: FALSE | D2: FALSE | E2: FALSE
A3: FALSE | B3: TRUE | C3: FALSE | D3: FALSE | E3: TRUE
A4: FALSE | B4: FALSE | C4: FALSE | D4: FALSE | E4: TRUE
A5: FALSE | B5: FALSE | C5: FALSE | D5: FALSE | E5: TRUE
A6: FALSE | B6: FALSE | C6: FALSE | D6: FALSE | E6: TRUE
A7: FALSE | B7: FALSE | C7: FALSE | D7: FALSE | E7: FALSE
A8: FALSE | B8: FALSE | C8: FALSE | D8: FALSE | E8: FALSE
A9: FALSE | B9: FALSE | C9: FALSE | D9: FALSE | E9: FALSE
A10: FALSE | B10: FALSE | C10: FALSE | D10: FALSE | E10: FALSE
A11: FALSE | B11: FALSE | C11: FALSE | D11: FALSE | E11: FALSE
A12: FALSE | B12: FALSE | C12: FALSE | D12: FALSE | E12: FALSE
... A30: FALSE | B30: FALSE | C30: FALSE | D30: FALSE | E30: FALSE

Sheet Strengths Inventory
A1: STRENGTHS INVENTORY · Career Development Assessment
A2: Click a checkbox (1–5) to rate each strength — one click, no dropdowns needed. | G2: Name: ________________________ Date: __________
A3: 1 = Rarely like me 2 = Sometimes 3 = Often 4 = Usually 5 = Consistently — this is a core strength
A4: # | B4: Strength | C4: What it looks like | D4: 1 | E4: 2 | F4: 3 | G4: 4 | H4: 5 | I4: Score | J4: Notes
A5: THINKING & PROBLEM SOLVING
A6: 1 | B6: Analytical thinking | C6: Breaking down complex problems into clear components | I6: =IF(CB_Data!E1,5,IF(CB_Data!D1,4,IF(CB_Data!C1,3,IF(CB_Data!B1,2,IF(CB_Data!A1,1,""))))) -> 1
A7: 2 | B7: Strategic vision | C7: Seeing the big picture and planning several steps ahead | I7: =IF(CB_Data!E2,5,IF(CB_Data!D2,4,IF(CB_Data!C2,3,IF(CB_Data!B2,2,IF(CB_Data!A2,1,""))))) -> 1
A8: 3 | B8: Creative problem solving | C8: Generating novel ideas and unconventional solutions | I8: =IF(CB_Data!E3,5,IF(CB_Data!D3,4,IF(CB_Data!C3,3,IF(CB_Data!B3,2,IF(CB_Data!A3,1,""))))) -> 5
A9: 4 | B9: Critical evaluation | C9: Objectively assessing information before drawing conclusions | I9: =IF(CB_Data!E4,5,IF(CB_Data!D4,4,IF(CB_Data!C4,3,IF(CB_Data!B4,2,IF(CB_Data!A4,1,""))))) -> 5
A10: 5 | B10: Rapid learning | C10: Quickly absorbing and applying new knowledge or skills | I10: =IF(CB_Data!E5,5,IF(CB_Data!D5,4,IF(CB_Data!C5,3,IF(CB_Data!B5,2,IF(CB_Data!A5,1,""))))) -> 5
A11: 6 | B11: Sound judgment | C11: Making well-reasoned decisions under uncertainty | I11: =IF(CB_Data!E6,5,IF(CB_Data!D6,4,IF(CB_Data!C6,3,IF(CB_Data!B6,2,IF(CB_Data!A6,1,""))))) -> 5
A13: PEOPLE & COMMUNICATION
A14: 7 | B14: Empathy | C14: Sensing and understanding others' emotions and perspectives | I14: =IF(CB_Data!E7,5,IF(CB_Data!D7,4,IF(CB_Data!C7,3,IF(CB_Data!B7,2,IF(CB_Data!A7,1,"")))))
A15: 8 | B15: Clear communication | C15: Expressing ideas clearly across different audiences | I15: =IF(CB_Data!E8,5,IF(CB_Data!D8,4,IF(CB_Data!C8,3,IF(CB_Data!B8,2,IF(CB_Data!A8,1,"")))))
A16: 9 | B16: Influence & persuasion | C16: Gaining buy-in and moving people toward a shared goal | I16: =IF(CB_Data!E9,5,IF(CB_Data!D9,4,IF(CB_Data!C9,3,IF(CB_Data!B9,2,IF(CB_Data!A9,1,"")))))
A17: 10 | B17: Active listening | C17: Giving full attention and making others feel truly heard | I17: =IF(CB_Data!E10,5,IF(CB_Data!D10,4,IF(CB_Data!C10,3,IF(CB_Data!B10,2,IF(CB_Data!A10,1,"")))))
A18: 11 | B18: Conflict resolution | C18: Navigating disagreements to find constructive outcomes | I18: =IF(CB_Data!E11,5,IF(CB_Data!D11,4,IF(CB_Data!C11,3,IF(CB_Data!B11,2,IF(CB_Data!A11,1,"")))))
A19: 12 | B19: Relationship building | C19: Developing trust and genuine connections over time | I19: =IF(CB_Data!E12,5,IF(CB_Data!D12,4,IF(CB_Data!C12,3,IF(CB_Data!B12,2,IF(CB_Data!A12,1,"")))))
A21: EXECUTION & RESULTS
A22: 13 | B22: Organization | C22: Keeping priorities, processes, and details in order | I22: =IF(CB_Data!E13,5,IF(CB_Data!D13,4,IF(CB_Data!C13,3,IF(CB_Data!B13,2,IF(CB_Data!A13,1,"")))))
A23: 14 | B23: Drive & initiative | C23: Self-starting and pushing projects forward without prompting | I23: =IF(CB_Data!E14,5,IF(CB_Data!D14,4,IF(CB_Data!C14,3,IF(CB_Data!B14,2,IF(CB_Data!A14,1,"")))))
A24: 15 | B24: Resilience | C24: Bouncing back from setbacks and staying productive under pressure | I24: =IF(CB_Data!E15,5,IF(CB_Data!D15,4,IF(CB_Data!C15,3,IF(CB_Data!B15,2,IF(CB_Data!A15,1,"")))))
A25: 16 | B25: Attention to detail | C25: Consistently producing accurate, high-quality work | I25: =IF(CB_Data!E16,5,IF(CB_Data!D16,4,IF(CB_Data!C16,3,IF(CB_Data!B16,2,IF(CB_Data!A16,1,"")))))
A26: 17 | B26: Adaptability | C26: Pivoting smoothly when priorities, plans, or conditions shift | I26: =IF(CB_Data!E17,5,IF(CB_Data!D17,4,IF(CB_Data!C17,3,IF(CB_Data!B17,2,IF(CB_Data!A17,1,"")))))
A27: 18 | B27: Accountability | C27: Owning outcomes and following through on commitments | I27: =IF(CB_Data!E18,5,IF(CB_Data!D18,4,IF(CB_Data!C18,3,IF(CB_Data!B18,2,IF(CB_Data!A18,1,"")))))
A29: LEADERSHIP & GROWTH
A30: 19 | B30: Inspiring vision | C30: Motivating others around a compelling direction or purpose | I30: =IF(CB_Data!E19,5,IF(CB_Data!D19,4,IF(CB_Data!C19,3,IF(CB_Data!B19,2,IF(CB_Data!A19,1,"")))))
A31: 20 | B31: Coaching & mentoring | C31: Developing others' potential through guidance and feedback | I31: =IF(CB_Data!E20,5,IF(CB_Data!D20,4,IF(CB_Data!C20,3,IF(CB_Data!B20,2,IF(CB_Data!A20,1,"")))))
A32: 21 | B32: Decisive action | C32: Making confident calls and committing to a path forward | I32: =IF(CB_Data!E21,5,IF(CB_Data!D21,4,IF(CB_Data!C21,3,IF(CB_Data!B21,2,IF(CB_Data!A21,1,"")))))
A33: 22 | B33: Courage | C33: Speaking up, taking risks, and acting on convictions | I33: =IF(CB_Data!E22,5,IF(CB_Data!D22,4,IF(CB_Data!C22,3,IF(CB_Data!B22,2,IF(CB_Data!A22,1,"")))))
A34: 23 | B34: Self-awareness | C34: Understanding your impact, triggers, and growth edges | I34: =IF(CB_Data!E23,5,IF(CB_Data!D23,4,IF(CB_Data!C23,3,IF(CB_Data!B23,2,IF(CB_Data!A23,1,"")))))
A35: 24 | B35: Integrity | C35: Acting consistently with your values, even when difficult | I35: =IF(CB_Data!E24,5,IF(CB_Data!D24,4,IF(CB_Data!C24,3,IF(CB_Data!B24,2,IF(CB_Data!A24,1,"")))))
A37: INNOVATION & COLLABORATION
A38: 25 | B38: Collaboration | C38: Working effectively across teams, roles, and perspectives | I38: =IF(CB_Data!E25,5,IF(CB_Data!D25,4,IF(CB_Data!C25,3,IF(CB_Data!B25,2,IF(CB_Data!A25,1,"")))))
A39: 26 | B39: Curiosity | C39: Consistently asking questions and exploring new territory | I39: =IF(CB_Data!E26,5,IF(CB_Data!D26,4,IF(CB_Data!C26,3,IF(CB_Data!B26,2,IF(CB_Data!A26,1,"")))))
A40: 27 | B40: Innovation mindset | C40: Challenging the status quo to build better ways of working | I40: =IF(CB_Data!E27,5,IF(CB_Data!D27,4,IF(CB_Data!C27,3,IF(CB_Data!B27,2,IF(CB_Data!A27,1,"")))))
A41: 28 | B41: Systems thinking | C41: Seeing how parts of a system interact and affect each other | I41: =IF(CB_Data!E28,5,IF(CB_Data!D28,4,IF(CB_Data!C28,3,IF(CB_Data!B28,2,IF(CB_Data!A28,1,"")))))
A42: 29 | B42: Facilitation | C42: Drawing out the best in groups and guiding productive conversations | I42: =IF(CB_Data!E29,5,IF(CB_Data!D29,4,IF(CB_Data!C29,3,IF(CB_Data!B29,2,IF(CB_Data!A29,1,"")))))
A43: 30 | B43: Giving & receiving feedback | C43: Sharing honest input and welcoming it from others | I43: =IF(CB_Data!E30,5,IF(CB_Data!D30,4,IF(CB_Data!C30,3,IF(CB_Data!B30,2,IF(CB_Data!A30,1,"")))))
A46: CATEGORY SCORE SUMMARY (auto-calculated from checkboxes above)
A47: Thinking & Problem Solving | E47: =IFERROR(ROUND(AVERAGE(I6,I7,I8,I9,I10,I11),1),"") -> 3.7 | H47: avg out of 5
A48: People & Communication | E48: =IFERROR(ROUND(AVERAGE(I14,I15,I16,I17,I18,I19),1),"") | H48: avg out of 5
A49: Execution & Results | E49: =IFERROR(ROUND(AVERAGE(I22,I23,I24,I25,I26,I27),1),"") | H49: avg out of 5
A50: Leadership & Growth | E50: =IFERROR(ROUND(AVERAGE(I30,I31,I32,I33,I34,I35),1),"") | H50: avg out of 5
A51: Innovation & Collaboration | E51: =IFERROR(ROUND(AVERAGE(I38,I39,I40,I41,I42,I43),1),"") | H51: avg out of 5
A53: REFLECTION QUESTIONS
A54: 1. Which strengths feel most natural and energizing to you?
A56: 2. Which strengths surprised you — higher or lower than expected?
A58: 3. Where do your top strengths show up most in your current role?
A60: 4. Which strengths do you most want to leverage in your next career step?
A62: 5. How do your top strengths align with the career direction you are pursuing?
A64: This inventory is a starting point for self-reflection. Your coach can help you interpret results and build a strengths-based development plan.

Sheet Dashboard
A1: STRENGTHS DASHBOARD · Category Score Overview
A2: Scores update live as you click checkboxes on the Strengths Inventory sheet.
A3: Category | B3: Avg Score | C3: Out of | D3: Rated | E3: of | F3: Strength Bar
A4: Thinking & Problem Solving | B4: ='Strengths Inventory'!E47 -> 3.7 | C4: 5 | D4: =IFERROR(IF('Strengths Inventory'!I6<>"",1,0)+IF('Strengths Inventory'!I7<>"",1,0)+IF('Strengths Inventory'!I8<>"",1,0)+IF('Strengths Inventory'!I9<>"",1,0)+IF('Strengths Inventory'!I10<>"",1,0)+IF('Strengths Inventory'!I11<>"",1,0),0) -> 6 | E4: 6 | F4: =IFERROR(REPT("█",ROUND(B4*4,0)),"") -> ███████████████
A5: People & Communication | B5: ='Strengths Inventory'!E48 | C5: 5 | D5: =IFERROR(IF('Strengths Inventory'!I14<>"",1,0)+IF('Strengths Inventory'!I15<>"",1,0)+IF('Strengths Inventory'!I16<>"",1,0)+IF('Strengths Inventory'!I17<>"",1,0)+IF('Strengths Inventory'!I18<>"",1,0)+IF('Strengths Inventory'!I19<>"",1,0),0) -> 0 | E5: 6 | F5: =IFERROR(REPT("█",ROUND(B5*4,0)),"")
A6: Execution & Results | B6: ='Strengths Inventory'!E49 | C6: 5 | D6: =IFERROR(IF('Strengths Inventory'!I22<>"",1,0)+IF('Strengths Inventory'!I23<>"",1,0)+IF('Strengths Inventory'!I24<>"",1,0)+IF('Strengths Inventory'!I25<>"",1,0)+IF('Strengths Inventory'!I26<>"",1,0)+IF('Strengths Inventory'!I27<>"",1,0),0) -> 0 | E6: 6 | F6: =IFERROR(REPT("█",ROUND(B6*4,0)),"")
A7: Leadership & Growth | B7: ='Strengths Inventory'!E50 | C7: 5 | D7: =IFERROR(IF('Strengths Inventory'!I30<>"",1,0)+IF('Strengths Inventory'!I31<>"",1,0)+IF('Strengths Inventory'!I32<>"",1,0)+IF('Strengths Inventory'!I33<>"",1,0)+IF('Strengths Inventory'!I34<>"",1,0)+IF('Strengths Inventory'!I35<>"",1,0),0) -> 0 | E7: 6 | F7: =IFERROR(REPT("█",ROUND(B7*4,0)),"")
A8: Innovation & Collaboration | B8: ='Strengths Inventory'!E51 | C8: 5 | D8: =IFERROR(IF('Strengths Inventory'!I38<>"",1,0)+IF('Strengths Inventory'!I39<>"",1,0)+IF('Strengths Inventory'!I40<>"",1,0)+IF('Strengths Inventory'!I41<>"",1,0)+IF('Strengths Inventory'!I42<>"",1,0)+IF('Strengths Inventory'!I43<>"",1,0),0) -> 0 | E8: 6 | F8: =IFERROR(REPT("█",ROUND(B8*4,0)),"")
A10: OVERALL AVERAGE | C10: =IFERROR(ROUND(AVERAGE(B4,B5,B6,B7,B8),2),"") -> 3.7
